BEGIN:VCALENDAR
VERSION:2.0
PRODID:-//City of Port Republic - ECPv6.6.3//NONSGML v1.0//EN
CALSCALE:GREGORIAN
METHOD:PUBLISH
X-WR-CALNAME:City of Port Republic
X-ORIGINAL-URL:https://www.portrepublicnj.org
X-WR-CALDESC:Events for City of Port Republic
REFRESH-INTERVAL;VALUE=DURATION:PT1H
X-Robots-Tag:noindex
X-PUBLISHED-TTL:PT1H
BEGIN:VTIMEZONE
TZID:UTC
BEGIN:STANDARD
TZOFFSETFROM:+0000
TZOFFSETTO:+0000
TZNAME:UTC
DTSTART:20250101T000000
END:STANDARD
END:VTIMEZONE
BEGIN:VEVENT
DTSTART;TZID=UTC:20251225T090000
DTEND;TZID=UTC:20251225T163000
DTSTAMP:20260421T101958
CREATED:20241227T203259Z
LAST-MODIFIED:20241227T203259Z
UID:12498-1766653200-1766680200@www.portrepublicnj.org
SUMMARY:City Offices Closed - Christmas Day
DESCRIPTION:
URL:https://www.portrepublicnj.org/event/city-offices-closed-christmas-day/
LOCATION:NJ
END:VEVENT
BEGIN:VEVENT
DTSTART;TZID=UTC:20251224T090000
DTEND;TZID=UTC:20251224T163000
DTSTAMP:20260421T101958
CREATED:20241227T203223Z
LAST-MODIFIED:20241227T203223Z
UID:12496-1766566800-1766593800@www.portrepublicnj.org
SUMMARY:City Offices Closed - Christmas Eve
DESCRIPTION:
URL:https://www.portrepublicnj.org/event/city-offices-closed-christmas-eve-2/
LOCATION:NJ
END:VEVENT
BEGIN:VEVENT
DTSTART;TZID=UTC:20251209T183000
DTEND;TZID=UTC:20251209T193000
DTSTAMP:20260421T101958
CREATED:20241230T181855Z
LAST-MODIFIED:20241230T181855Z
UID:12548-1765305000-1765308600@www.portrepublicnj.org
SUMMARY:City Council Meeting
DESCRIPTION:
URL:https://www.portrepublicnj.org/event/city-council-meeting-15/
LOCATION:Port Republic City Hall\, 143 Main Street\, Port Republic\, NJ 08241\, Port Republic\, NJ\, 08205\, United States
END:VEVENT
BEGIN:VEVENT
DTSTART;TZID=UTC:20251128T090000
DTEND;TZID=UTC:20251128T163000
DTSTAMP:20260421T101958
CREATED:20241227T203138Z
LAST-MODIFIED:20241227T203138Z
UID:12494-1764320400-1764347400@www.portrepublicnj.org
SUMMARY:City Offices Closed - Day after Thanksgiving
DESCRIPTION:
URL:https://www.portrepublicnj.org/event/city-offices-closed-day-after-thanksgiving-2/
LOCATION:NJ
END:VEVENT
BEGIN:VEVENT
DTSTART;TZID=UTC:20251127T080000
DTEND;TZID=UTC:20251127T170000
DTSTAMP:20260421T101958
CREATED:20241227T203055Z
LAST-MODIFIED:20241227T203055Z
UID:12492-1764230400-1764262800@www.portrepublicnj.org
SUMMARY:City Offices Closed - Thanksgiving Day
DESCRIPTION:
URL:https://www.portrepublicnj.org/event/city-offices-closed-thanksgiving-day/
LOCATION:NJ
END:VEVENT
BEGIN:VEVENT
DTSTART;TZID=UTC:20251118T183000
DTEND;TZID=UTC:20251118T193000
DTSTAMP:20260421T101958
CREATED:20241230T181806Z
LAST-MODIFIED:20241230T181806Z
UID:12546-1763490600-1763494200@www.portrepublicnj.org
SUMMARY:City Council Meeting
DESCRIPTION:
URL:https://www.portrepublicnj.org/event/city-council-meeting-14/
LOCATION:Port Republic City Hall\, 143 Main Street\, Port Republic\, NJ 08241\, Port Republic\, NJ\, 08205\, United States
END:VEVENT
BEGIN:VEVENT
DTSTART;TZID=UTC:20251115T090000
DTEND;TZID=UTC:20251115T120000
DTSTAMP:20260421T101958
CREATED:20251104T171916Z
LAST-MODIFIED:20251104T171916Z
UID:13138-1763197200-1763208000@www.portrepublicnj.org
SUMMARY:Shredding Event
DESCRIPTION:📄 Community Shredding Event – November 15\, 2025 \nEgg Harbor City\, Mullica Township\, and the City of Port Republic are teaming up for a FREE Community Shredding Event! \n🗓 Date: Saturday\, November 15\, 2025⏰ Time: 9:00 AM – 12:00 PM (Noon)📍 Location: White Horse Pike & New York Avenue\, Egg Harbor City🗑 Accepted Material: Paper only (no cardboard\, binders\, or electronics) \nSafely dispose of your unwanted documents and help protect your personal information. This event is open to residents of all three municipalities. No appointments necessary…just drive up and drop off! \nLet’s keep our communities clean and secure.  See you there!
URL:https://www.portrepublicnj.org/event/shredding-event/
LOCATION:New Yorn Avenue & White Horse Pike\, Egg Harbor City\, NJ\, New York Avenue & White Horse Pike\, Egg Harbor City\, NJ\, United States
END:VEVENT
BEGIN:VEVENT
DTSTART;TZID=UTC:20251111T090000
DTEND;TZID=UTC:20251111T163000
DTSTAMP:20260421T101958
CREATED:20241227T203006Z
LAST-MODIFIED:20241227T203006Z
UID:12490-1762851600-1762878600@www.portrepublicnj.org
SUMMARY:City Offices Closed - Veterans Day
DESCRIPTION:
URL:https://www.portrepublicnj.org/event/city-offices-closed-veterans-day-2/
LOCATION:NJ
END:VEVENT
BEGIN:VEVENT
DTSTART;TZID=UTC:20251014T183000
DTEND;TZID=UTC:20251014T193000
DTSTAMP:20260421T101958
CREATED:20241230T181726Z
LAST-MODIFIED:20241230T181726Z
UID:12544-1760466600-1760470200@www.portrepublicnj.org
SUMMARY:City Council Meeting
DESCRIPTION:
URL:https://www.portrepublicnj.org/event/city-council-meeting-13/
LOCATION:Port Republic City Hall\, 143 Main Street\, Port Republic\, NJ 08241\, Port Republic\, NJ\, 08205\, United States
END:VEVENT
BEGIN:VEVENT
DTSTART;TZID=UTC:20251013T090000
DTEND;TZID=UTC:20251013T163000
DTSTAMP:20260421T101958
CREATED:20241227T202923Z
LAST-MODIFIED:20241227T202923Z
UID:12488-1760346000-1760373000@www.portrepublicnj.org
SUMMARY:City Offices Closed - Columbus Day
DESCRIPTION:
URL:https://www.portrepublicnj.org/event/city-offices-closed-columbus-day-2/
LOCATION:NJ
END:VEVENT
BEGIN:VEVENT
DTSTART;TZID=UTC:20250909T183000
DTEND;TZID=UTC:20250909T193000
DTSTAMP:20260421T101958
CREATED:20241230T181642Z
LAST-MODIFIED:20241230T181642Z
UID:12542-1757442600-1757446200@www.portrepublicnj.org
SUMMARY:City Council Meeting
DESCRIPTION:
URL:https://www.portrepublicnj.org/event/city-council-meeting-12/
LOCATION:Port Republic City Hall\, 143 Main Street\, Port Republic\, NJ 08241\, Port Republic\, NJ\, 08205\, United States
END:VEVENT
BEGIN:VEVENT
DTSTART;TZID=UTC:20250901T090000
DTEND;TZID=UTC:20250901T163000
DTSTAMP:20260421T101958
CREATED:20241227T202835Z
LAST-MODIFIED:20241227T202835Z
UID:12486-1756717200-1756744200@www.portrepublicnj.org
SUMMARY:City Offices Closed - Labor Day
DESCRIPTION:
URL:https://www.portrepublicnj.org/event/city-offices-closed-labor-day/
LOCATION:NJ
END:VEVENT
BEGIN:VEVENT
DTSTART;TZID=UTC:20250812T183000
DTEND;TZID=UTC:20250812T193000
DTSTAMP:20260421T101958
CREATED:20241230T181559Z
LAST-MODIFIED:20241230T181559Z
UID:12540-1755023400-1755027000@www.portrepublicnj.org
SUMMARY:City Council Meeting
DESCRIPTION:
URL:https://www.portrepublicnj.org/event/city-council-meeting-11/
LOCATION:Port Republic City Hall\, 143 Main Street\, Port Republic\, NJ 08241\, Port Republic\, NJ\, 08205\, United States
END:VEVENT
BEGIN:VEVENT
DTSTART;TZID=UTC:20250708T183000
DTEND;TZID=UTC:20250708T193000
DTSTAMP:20260421T101958
CREATED:20241230T181429Z
LAST-MODIFIED:20241230T181429Z
UID:12538-1751999400-1752003000@www.portrepublicnj.org
SUMMARY:City Council Meeting
DESCRIPTION:
URL:https://www.portrepublicnj.org/event/city-council-meeting-10/
LOCATION:Port Republic City Hall\, 143 Main Street\, Port Republic\, NJ 08241\, Port Republic\, NJ\, 08205\, United States
END:VEVENT
BEGIN:VEVENT
DTSTART;TZID=UTC:20250704T090000
DTEND;TZID=UTC:20250704T163000
DTSTAMP:20260421T101958
CREATED:20241227T202757Z
LAST-MODIFIED:20241227T202757Z
UID:12484-1751619600-1751646600@www.portrepublicnj.org
SUMMARY:City Offices Closed - Independence Day
DESCRIPTION:
URL:https://www.portrepublicnj.org/event/city-offices-closed-independence-day/
LOCATION:NJ
END:VEVENT
BEGIN:VEVENT
DTSTART;TZID=UTC:20250621T160000
DTEND;TZID=UTC:20250621T210000
DTSTAMP:20260421T101958
CREATED:20250411T141235Z
LAST-MODIFIED:20250411T144740Z
UID:12773-1750521600-1750539600@www.portrepublicnj.org
SUMMARY:Port Community Day
DESCRIPTION:Rain date: 6/28/25
URL:https://www.portrepublicnj.org/event/port-community-day/
LOCATION:Harry Bowen Park\, 143 Main Street\, Port Republic\, NJ\, NJ\, 08241\, United States
ORGANIZER;CN="City of Port Republic":MAILTO:lisa@portrepublicnj.org
END:VEVENT
BEGIN:VEVENT
DTSTART;TZID=UTC:20250619T090000
DTEND;TZID=UTC:20250619T163000
DTSTAMP:20260421T101958
CREATED:20241227T202716Z
LAST-MODIFIED:20241227T202716Z
UID:12482-1750323600-1750350600@www.portrepublicnj.org
SUMMARY:City Offices Closed - Juneteenth
DESCRIPTION:
URL:https://www.portrepublicnj.org/event/city-offices-closed-juneteenth/
LOCATION:NJ
END:VEVENT
BEGIN:VEVENT
DTSTART;TZID=UTC:20250614T080000
DTEND;TZID=UTC:20250614T140000
DTSTAMP:20260421T101958
CREATED:20250411T140544Z
LAST-MODIFIED:20250502T142855Z
UID:12771-1749888000-1749909600@www.portrepublicnj.org
SUMMARY:Port Republic City Wide Yard Sale
DESCRIPTION:$10 donation for hosting at your home\, $20 donation for a parking space at Harry Bowen Memorial Park (spaces limited) \nRegistration proceeds will benefit the Port Republic Events Fund. \nRegistration form: \nContact Gretchen Halfpenny at 609-350-0865 or Trish Zatorski at 609-338-9123 with any questions.
URL:https://www.portrepublicnj.org/event/port-republic-city-wide-yard-sale/
LOCATION:Harry Bowen Park\, 143 Main Street\, Port Republic\, NJ\, NJ\, 08241\, United States
ORGANIZER;CN="City of Port Republic":MAILTO:lisa@portrepublicnj.org
END:VEVENT
BEGIN:VEVENT
DTSTART;TZID=UTC:20250603T183000
DTEND;TZID=UTC:20250603T193000
DTSTAMP:20260421T101958
CREATED:20241230T181346Z
LAST-MODIFIED:20250521T143539Z
UID:12536-1748975400-1748979000@www.portrepublicnj.org
SUMMARY:City Council Meeting
DESCRIPTION:
URL:https://www.portrepublicnj.org/event/city-council-meeting-9/
LOCATION:Port Republic City Hall\, 143 Main Street\, Port Republic\, NJ 08241\, Port Republic\, NJ\, 08205\, United States
END:VEVENT
BEGIN:VEVENT
DTSTART;TZID=UTC:20250526T090000
DTEND;TZID=UTC:20250526T163000
DTSTAMP:20260421T101958
CREATED:20241227T202629Z
LAST-MODIFIED:20241227T202629Z
UID:12480-1748250000-1748277000@www.portrepublicnj.org
SUMMARY:City Offices Closed - Memorial Day
DESCRIPTION:
URL:https://www.portrepublicnj.org/event/city-offices-closed-memorial-day/
LOCATION:NJ
END:VEVENT
BEGIN:VEVENT
DTSTART;TZID=UTC:20250524T080000
DTEND;TZID=UTC:20250524T100000
DTSTAMP:20260421T101958
CREATED:20250411T142338Z
LAST-MODIFIED:20250411T142338Z
UID:12780-1748073600-1748080800@www.portrepublicnj.org
SUMMARY:Jersey Genesis Triathlon
DESCRIPTION:
URL:https://www.portrepublicnj.org/event/jersey-genesis-triathlon/
LOCATION:Harry Bowen Park\, 143 Main Street\, Port Republic\, NJ\, NJ\, 08241\, United States
ORGANIZER;CN="Jersey Genesis Triathlon":MAILTO:jerseygenesistri@aol.com
END:VEVENT
BEGIN:VEVENT
DTSTART;TZID=UTC:20250517T153000
DTEND;TZID=UTC:20250517T193000
DTSTAMP:20260421T101958
CREATED:20250411T141847Z
LAST-MODIFIED:20250411T141847Z
UID:12778-1747495800-1747510200@www.portrepublicnj.org
SUMMARY:Port Firehouse Dinner
DESCRIPTION:
URL:https://www.portrepublicnj.org/event/port-firehouse-dinner/
LOCATION:Port Republic Firehouse\, 116 Blakes Lane\, Port Republic\, NJ\, 08241\, United States
END:VEVENT
BEGIN:VEVENT
DTSTART;TZID=UTC:20250513T183000
DTEND;TZID=UTC:20250513T193000
DTSTAMP:20260421T101958
CREATED:20241230T181244Z
LAST-MODIFIED:20241230T181244Z
UID:12534-1747161000-1747164600@www.portrepublicnj.org
SUMMARY:City Council Meeting
DESCRIPTION:
URL:https://www.portrepublicnj.org/event/city-council-meeting-8/
LOCATION:Port Republic City Hall\, 143 Main Street\, Port Republic\, NJ 08241\, Port Republic\, NJ\, 08205\, United States
END:VEVENT
BEGIN:VEVENT
DTSTART;TZID=UTC:20250503T100000
DTEND;TZID=UTC:20250503T120000
DTSTAMP:20260421T101958
CREATED:20250411T141600Z
LAST-MODIFIED:20250411T141600Z
UID:12775-1746266400-1746273600@www.portrepublicnj.org
SUMMARY:City-Wide Cleanup
DESCRIPTION:
URL:https://www.portrepublicnj.org/event/city-wide-cleanup/
LOCATION:Harry Bowen Park\, 143 Main Street\, Port Republic\, NJ\, NJ\, 08241\, United States
ORGANIZER;CN="Clean Communities":MAILTO:brandy@portrepublicnj.org
END:VEVENT
BEGIN:VEVENT
DTSTART;TZID=UTC:20250418T090000
DTEND;TZID=UTC:20250418T163000
DTSTAMP:20260421T101958
CREATED:20241227T202551Z
LAST-MODIFIED:20241227T202551Z
UID:12478-1744966800-1744993800@www.portrepublicnj.org
SUMMARY:City Offices Closed - Good Friday
DESCRIPTION:
URL:https://www.portrepublicnj.org/event/city-offices-closed-good-friday/
LOCATION:NJ
END:VEVENT
BEGIN:VEVENT
DTSTART;TZID=UTC:20250408T183000
DTEND;TZID=UTC:20250408T193000
DTSTAMP:20260421T101958
CREATED:20241230T181157Z
LAST-MODIFIED:20241230T181157Z
UID:12532-1744137000-1744140600@www.portrepublicnj.org
SUMMARY:City Council Meeting
DESCRIPTION:
URL:https://www.portrepublicnj.org/event/city-council-meeting-7/
LOCATION:Port Republic City Hall\, 143 Main Street\, Port Republic\, NJ 08241\, Port Republic\, NJ\, 08205\, United States
END:VEVENT
BEGIN:VEVENT
DTSTART;TZID=UTC:20250311T183000
DTEND;TZID=UTC:20250311T193000
DTSTAMP:20260421T101958
CREATED:20241230T181109Z
LAST-MODIFIED:20241230T181109Z
UID:12530-1741717800-1741721400@www.portrepublicnj.org
SUMMARY:City Council Meeting
DESCRIPTION:
URL:https://www.portrepublicnj.org/event/city-council-meeting-6/
LOCATION:Port Republic City Hall\, 143 Main Street\, Port Republic\, NJ 08241\, Port Republic\, NJ\, 08205\, United States
END:VEVENT
BEGIN:VEVENT
DTSTART;TZID=UTC:20250217T090000
DTEND;TZID=UTC:20250217T163000
DTSTAMP:20260421T101958
CREATED:20241227T202503Z
LAST-MODIFIED:20241227T202503Z
UID:12476-1739782800-1739809800@www.portrepublicnj.org
SUMMARY:City Offices Closed - President's Day
DESCRIPTION:
URL:https://www.portrepublicnj.org/event/city-offices-closed-presidents-day/
LOCATION:NJ
END:VEVENT
BEGIN:VEVENT
DTSTART;TZID=UTC:20250211T183000
DTEND;TZID=UTC:20250211T193000
DTSTAMP:20260421T101958
CREATED:20241230T181028Z
LAST-MODIFIED:20241230T181028Z
UID:12528-1739298600-1739302200@www.portrepublicnj.org
SUMMARY:City Council Meeting
DESCRIPTION:
URL:https://www.portrepublicnj.org/event/city-council-meeting-5/
LOCATION:Port Republic City Hall\, 143 Main Street\, Port Republic\, NJ 08241\, Port Republic\, NJ\, 08205\, United States
END:VEVENT
BEGIN:VEVENT
DTSTART;TZID=UTC:20250125T090000
DTEND;TZID=UTC:20250125T120000
DTSTAMP:20260421T101958
CREATED:20241017T145748Z
LAST-MODIFIED:20241017T145748Z
UID:12290-1737795600-1737806400@www.portrepublicnj.org
SUMMARY:Declutter Event - hosted by Port Green Team
DESCRIPTION:
URL:https://www.portrepublicnj.org/event/declutter-event-hosted-by-port-green-team/
LOCATION:Port Republic City Hall\, 143 Main Street\, Port Republic\, NJ 08241\, Port Republic\, NJ\, 08205\, United States
END:VEVENT
END:VCALENDAR