BEGIN:VCALENDAR
VERSION:2.0
PRODID:-//City of Port Republic - ECPv6.6.3//NONSGML v1.0//EN
CALSCALE:GREGORIAN
METHOD:PUBLISH
X-ORIGINAL-URL:https://www.portrepublicnj.org
X-WR-CALDESC:Events for City of Port Republic
REFRESH-INTERVAL;VALUE=DURATION:PT1H
X-Robots-Tag:noindex
X-PUBLISHED-TTL:PT1H
BEGIN:VTIMEZONE
TZID:UTC
BEGIN:STANDARD
TZOFFSETFROM:+0000
TZOFFSETTO:+0000
TZNAME:UTC
DTSTART:20240101T000000
END:STANDARD
END:VTIMEZONE
BEGIN:VEVENT
DTSTART;TZID=UTC:20250120T090000
DTEND;TZID=UTC:20250120T163000
DTSTAMP:20260421T154513
CREATED:20241227T202425Z
LAST-MODIFIED:20241227T202425Z
UID:12474-1737363600-1737390600@www.portrepublicnj.org
SUMMARY:City Offices Closed - Martin Luther King Day
DESCRIPTION:
URL:https://www.portrepublicnj.org/event/city-offices-closed-martin-luther-king-day/
END:VEVENT
BEGIN:VEVENT
DTSTART;TZID=UTC:20250107T183000
DTEND;TZID=UTC:20250107T193000
DTSTAMP:20260421T154513
CREATED:20241213T220128Z
LAST-MODIFIED:20241213T220128Z
UID:12418-1736274600-1736278200@www.portrepublicnj.org
SUMMARY:City Council Meeting
DESCRIPTION:
URL:https://www.portrepublicnj.org/event/city-council-meeting-4/
LOCATION:Port Republic City Hall\, 143 Main Street\, Port Republic\, NJ 08241\, Port Republic\, NJ\, 08205\, United States
ORGANIZER;CN="City of Port Republic":MAILTO:lisa@portrepublicnj.org
END:VEVENT
BEGIN:VEVENT
DTSTART;TZID=UTC:20250107T180000
DTEND;TZID=UTC:20250107T183000
DTSTAMP:20260421T154513
CREATED:20241213T220044Z
LAST-MODIFIED:20241213T220044Z
UID:12416-1736272800-1736274600@www.portrepublicnj.org
SUMMARY:City Council Reorganization Meeting
DESCRIPTION:
URL:https://www.portrepublicnj.org/event/city-council-reorganization-meeting/
LOCATION:Port Republic City Hall\, 143 Main Street\, Port Republic\, NJ 08241\, Port Republic\, NJ\, 08205\, United States
ORGANIZER;CN="City of Port Republic":MAILTO:lisa@portrepublicnj.org
END:VEVENT
BEGIN:VEVENT
DTSTART;TZID=UTC:20250101T090000
DTEND;TZID=UTC:20250101T163000
DTSTAMP:20260421T154513
CREATED:20241226T201258Z
LAST-MODIFIED:20241226T201258Z
UID:12427-1735722000-1735749000@www.portrepublicnj.org
SUMMARY:City Offices Closed - New Years Day
DESCRIPTION:
URL:https://www.portrepublicnj.org/event/city-offices-closed-new-years-day/
LOCATION:Port Republic City Hall\, 143 Main Street\, Port Republic\, NJ 08241\, Port Republic\, NJ\, 08205\, United States
ORGANIZER;CN="City of Port Republic":MAILTO:lisa@portrepublicnj.org
END:VEVENT
BEGIN:VEVENT
DTSTART;TZID=UTC:20241231T090000
DTEND;TZID=UTC:20241231T163000
DTSTAMP:20260421T154513
CREATED:20241226T201150Z
LAST-MODIFIED:20241226T201217Z
UID:12425-1735635600-1735662600@www.portrepublicnj.org
SUMMARY:City Offices Closed - New Years Eve
DESCRIPTION:
URL:https://www.portrepublicnj.org/event/city-offices-closed-new-years-eve/
LOCATION:Port Republic City Hall\, 143 Main Street\, Port Republic\, NJ 08241\, Port Republic\, NJ\, 08205\, United States
ORGANIZER;CN="City of Port Republic":MAILTO:lisa@portrepublicnj.org
END:VEVENT
BEGIN:VEVENT
DTSTART;VALUE=DATE:20241225
DTEND;VALUE=DATE:20241226
DTSTAMP:20260421T154513
CREATED:20241009T145716Z
LAST-MODIFIED:20241009T145716Z
UID:12279-1735084800-1735171199@www.portrepublicnj.org
SUMMARY:City Offices Closed - Christmas
DESCRIPTION:
URL:https://www.portrepublicnj.org/event/city-offices-closed-christmas/
END:VEVENT
BEGIN:VEVENT
DTSTART;VALUE=DATE:20241224
DTEND;VALUE=DATE:20241225
DTSTAMP:20260421T154513
CREATED:20241009T145644Z
LAST-MODIFIED:20241009T145644Z
UID:12277-1734998400-1735084799@www.portrepublicnj.org
SUMMARY:City Offices Closed - Christmas Eve
DESCRIPTION:
URL:https://www.portrepublicnj.org/event/city-offices-closed-christmas-eve/
END:VEVENT
BEGIN:VEVENT
DTSTART;TZID=UTC:20241210T183000
DTEND;TZID=UTC:20241210T193000
DTSTAMP:20260421T154513
CREATED:20241009T150122Z
LAST-MODIFIED:20241009T150122Z
UID:12283-1733855400-1733859000@www.portrepublicnj.org
SUMMARY:City Council Meeting
DESCRIPTION:
URL:https://www.portrepublicnj.org/event/city-council-meeting-3/
LOCATION:Port Republic City Hall\, 143 Main Street\, Port Republic\, NJ 08241\, Port Republic\, NJ\, 08205\, United States
ORGANIZER;CN="City of Port Republic":MAILTO:lisa@portrepublicnj.org
END:VEVENT
BEGIN:VEVENT
DTSTART;TZID=UTC:20241205T180000
DTEND;TZID=UTC:20241205T200000
DTSTAMP:20260421T154513
CREATED:20240909T164614Z
LAST-MODIFIED:20240909T164625Z
UID:12038-1733421600-1733428800@www.portrepublicnj.org
SUMMARY:Port Tree Lighting
DESCRIPTION:
URL:https://www.portrepublicnj.org/event/port-tree-lighting/
LOCATION:Port Republic City Hall\, 143 Main Street\, Port Republic\, NJ 08241\, Port Republic\, NJ\, 08205\, United States
ORGANIZER;CN="City of Port Republic":MAILTO:lisa@portrepublicnj.org
END:VEVENT
BEGIN:VEVENT
DTSTART;VALUE=DATE:20241129
DTEND;VALUE=DATE:20241130
DTSTAMP:20260421T154513
CREATED:20241009T145600Z
LAST-MODIFIED:20241009T145600Z
UID:12275-1732838400-1732924799@www.portrepublicnj.org
SUMMARY:City Offices Closed - Day After Thanksgiving
DESCRIPTION:
URL:https://www.portrepublicnj.org/event/city-offices-closed-day-after-thanksgiving/
END:VEVENT
BEGIN:VEVENT
DTSTART;VALUE=DATE:20241128
DTEND;VALUE=DATE:20241129
DTSTAMP:20260421T154513
CREATED:20241009T145527Z
LAST-MODIFIED:20241009T145527Z
UID:12273-1732752000-1732838399@www.portrepublicnj.org
SUMMARY:City Offices Closed - Thanksgiving
DESCRIPTION:
URL:https://www.portrepublicnj.org/event/city-offices-closed-thanksgiving/
END:VEVENT
BEGIN:VEVENT
DTSTART;TZID=UTC:20241112T183000
DTEND;TZID=UTC:20241112T193000
DTSTAMP:20260421T154513
CREATED:20241009T150008Z
LAST-MODIFIED:20241009T150008Z
UID:12281-1731436200-1731439800@www.portrepublicnj.org
SUMMARY:City Council Meeting
DESCRIPTION:
URL:https://www.portrepublicnj.org/event/city-council-meeting-2/
LOCATION:Port Republic City Hall\, 143 Main Street\, Port Republic\, NJ 08241\, Port Republic\, NJ\, 08205\, United States
ORGANIZER;CN="City of Port Republic":MAILTO:lisa@portrepublicnj.org
END:VEVENT
BEGIN:VEVENT
DTSTART;VALUE=DATE:20241111
DTEND;VALUE=DATE:20241112
DTSTAMP:20260421T154513
CREATED:20241009T145436Z
LAST-MODIFIED:20241009T145436Z
UID:12271-1731283200-1731369599@www.portrepublicnj.org
SUMMARY:City Offices Closed - Veterans Day
DESCRIPTION:
URL:https://www.portrepublicnj.org/event/city-offices-closed-veterans-day/
END:VEVENT
BEGIN:VEVENT
DTSTART;TZID=UTC:20241031T180000
DTEND;TZID=UTC:20241031T200000
DTSTAMP:20260421T154513
CREATED:20240909T164122Z
LAST-MODIFIED:20241001T154622Z
UID:12034-1730397600-1730404800@www.portrepublicnj.org
SUMMARY:Trick or Treat
DESCRIPTION:
URL:https://www.portrepublicnj.org/event/trick-or-treat/
LOCATION:City of Port Republic\, 143 MAIN STREET\, Port Republic NJ\, NJ\, 08241\, United States
END:VEVENT
BEGIN:VEVENT
DTSTART;TZID=UTC:20241026T160000
DTEND;TZID=UTC:20241026T200000
DTSTAMP:20260421T154513
CREATED:20240909T163842Z
LAST-MODIFIED:20241023T134731Z
UID:12031-1729958400-1729972800@www.portrepublicnj.org
SUMMARY:Fall Fest and Movie Night
DESCRIPTION:
URL:https://www.portrepublicnj.org/event/fall-fest-and-movie-night/
LOCATION:Harry Bowen Park\, 143 Main Street\, Port Republic\, NJ\, NJ\, 08241\, United States
ORGANIZER;CN="City of Port Republic":MAILTO:lisa@portrepublicnj.org
END:VEVENT
BEGIN:VEVENT
DTSTART;TZID=UTC:20241026T090000
DTEND;TZID=UTC:20241026T120000
DTSTAMP:20260421T154513
CREATED:20241004T175454Z
LAST-MODIFIED:20241004T175454Z
UID:12257-1729933200-1729944000@www.portrepublicnj.org
SUMMARY:Port Republic Shredding Event
DESCRIPTION:
URL:https://www.portrepublicnj.org/event/port-republic-shredding-event/
END:VEVENT
BEGIN:VEVENT
DTSTART;TZID=UTC:20241019T153000
DTEND;TZID=UTC:20241019T193000
DTSTAMP:20260421T154513
CREATED:20240909T162558Z
LAST-MODIFIED:20240909T162613Z
UID:12027-1729351800-1729366200@www.portrepublicnj.org
SUMMARY:Port Republic Volunteer Fire Company Roast Beef Dinner
DESCRIPTION:
URL:https://www.portrepublicnj.org/event/port-republic-volunteer-fire-company-roast-beef-dinner/
LOCATION:Port Republic Firehouse\, 116 Blakes Lane\, Port Republic\, NJ\, 08241\, United States
END:VEVENT
BEGIN:VEVENT
DTSTART;VALUE=DATE:20241014
DTEND;VALUE=DATE:20241015
DTSTAMP:20260421T154513
CREATED:20241009T144652Z
LAST-MODIFIED:20241009T144652Z
UID:12269-1728864000-1728950399@www.portrepublicnj.org
SUMMARY:City Offices Closed - Columbus Day
DESCRIPTION:
URL:https://www.portrepublicnj.org/event/city-offices-closed-columbus-day/
END:VEVENT
BEGIN:VEVENT
DTSTART;TZID=UTC:20241005T150000
DTEND;TZID=UTC:20241005T190000
DTSTAMP:20260421T154513
CREATED:20240909T155149Z
LAST-MODIFIED:20240909T155205Z
UID:12022-1728140400-1728154800@www.portrepublicnj.org
SUMMARY:2nd Annual Heritage Day Celebration
DESCRIPTION:Please join us in our little historic\, haunted hamlet for our Second Annual Heritage Day hosted by Port Republic Heritage Society.
URL:https://www.portrepublicnj.org/event/2nd-annual-heritage-day-celebration/
LOCATION:Port Republic City Hall\, 143 Main Street\, Port Republic\, NJ 08241\, Port Republic\, NJ\, 08205\, United States
END:VEVENT
BEGIN:VEVENT
DTSTART;TZID=UTC:20240928T100000
DTEND;TZID=UTC:20240928T120000
DTSTAMP:20260421T154513
CREATED:20240909T152145Z
LAST-MODIFIED:20240927T165709Z
UID:12014-1727517600-1727524800@www.portrepublicnj.org
SUMMARY:CANCELLED - Port Republic City Fall Cleanup
DESCRIPTION:
URL:https://www.portrepublicnj.org/event/port-republic-city-fall-cleanup/
LOCATION:City of Port Republic\, 143 MAIN STREET\, Port Republic NJ\, NJ\, 08241\, United States
END:VEVENT
BEGIN:VEVENT
DTSTART;VALUE=DATE:20240915
DTEND;VALUE=DATE:20240916
DTSTAMP:20260421T154513
CREATED:20240909T152229Z
LAST-MODIFIED:20240909T152229Z
UID:12016-1726358400-1726444799@www.portrepublicnj.org
SUMMARY:Duct Tape Boat Regatta
DESCRIPTION:
URL:https://www.portrepublicnj.org/event/duct-tape-boat-regatta/
END:VEVENT
BEGIN:VEVENT
DTSTART;TZID=UTC:20240910T183000
DTEND;TZID=UTC:20240910T193000
DTSTAMP:20260421T154513
CREATED:20240909T151950Z
LAST-MODIFIED:20240909T151950Z
UID:12011-1725993000-1725996600@www.portrepublicnj.org
SUMMARY:City Council Meeting
DESCRIPTION:
URL:https://www.portrepublicnj.org/event/city-council-meeting/
LOCATION:City of Port Republic\, 143 MAIN STREET\, Port Republic NJ\, NJ\, 08241\, United States
END:VEVENT
END:VCALENDAR