BEGIN:VCALENDAR
VERSION:2.0
PRODID:-//City of Port Republic - ECPv6.6.3//NONSGML v1.0//EN
CALSCALE:GREGORIAN
METHOD:PUBLISH
X-ORIGINAL-URL:https://www.portrepublicnj.org
X-WR-CALDESC:Events for City of Port Republic
REFRESH-INTERVAL;VALUE=DURATION:PT1H
X-Robots-Tag:noindex
X-PUBLISHED-TTL:PT1H
BEGIN:VTIMEZONE
TZID:UTC
BEGIN:STANDARD
TZOFFSETFROM:+0000
TZOFFSETTO:+0000
TZNAME:UTC
DTSTART:20240101T000000
END:STANDARD
END:VTIMEZONE
BEGIN:VEVENT
DTSTART;VALUE=DATE:20240915
DTEND;VALUE=DATE:20240916
DTSTAMP:20260421T183555
CREATED:20240909T152229Z
LAST-MODIFIED:20240909T152229Z
UID:12016-1726358400-1726444799@www.portrepublicnj.org
SUMMARY:Duct Tape Boat Regatta
DESCRIPTION:
URL:https://www.portrepublicnj.org/event/duct-tape-boat-regatta/
END:VEVENT
BEGIN:VEVENT
DTSTART;TZID=UTC:20240910T183000
DTEND;TZID=UTC:20240910T193000
DTSTAMP:20260421T183555
CREATED:20240909T151950Z
LAST-MODIFIED:20240909T151950Z
UID:12011-1725993000-1725996600@www.portrepublicnj.org
SUMMARY:City Council Meeting
DESCRIPTION:
URL:https://www.portrepublicnj.org/event/city-council-meeting/
LOCATION:City of Port Republic\, 143 MAIN STREET\, Port Republic NJ\, NJ\, 08241\, United States
END:VEVENT
END:VCALENDAR